BEGIN:VCALENDAR
VERSION:2.0
PRODID:-//eventon.com NONSGML v1.0//EN
BEGIN:VEVENT
UID:69e73ded4cdb2
DTSTAMP:20260421T110549
DTSTART:20191105T150000Z
DTEND:20191105T180000Z
LOCATION:Galicyjskie Centrum Edukacji ul. Bronowicka 73
SUMMARY:Jestem ZA wiedzą
DESCRIPTION: Jestem ZA wiedzą
END:VEVENT
END:VCALENDAR