BEGIN:VCALENDAR
VERSION:2.0
PRODID:-//eventon.com NONSGML v1.0//EN
BEGIN:VEVENT
UID:69e73c164362a
DTSTAMP:20260421T105758
DTSTART:20200111T090000Z
DTEND:20200111T120000Z
LOCATION:Wydział Inżynierii i Technologii Chemicznej Politechniki Krakowskiej ul. Warszawska 24
SUMMARY:Jestem ZA wiedzą - dzieci gr. D
DESCRIPTION: Jestem ZA wiedzą - dzieci gr. D
END:VEVENT
END:VCALENDAR